BEGIN:VCALENDAR
VERSION:2.0
PRODID:-//華沃教育 - ECPv6.2.0.1//NONSGML v1.0//EN
CALSCALE:GREGORIAN
METHOD:PUBLISH
X-WR-CALNAME:華沃教育
X-ORIGINAL-URL:https://waward.org
X-WR-CALDESC:Events for 華沃教育
REFRESH-INTERVAL;VALUE=DURATION:PT1H
X-Robots-Tag:noindex
X-PUBLISHED-TTL:PT1H
BEGIN:VTIMEZONE
TZID:Asia/Shanghai
BEGIN:STANDARD
TZOFFSETFROM:+0800
TZOFFSETTO:+0800
TZNAME:CST
DTSTART:20220101T000000
END:STANDARD
END:VTIMEZONE
BEGIN:VEVENT
DTSTART;VALUE=DATE:20220730
DTEND;VALUE=DATE:20220801
DTSTAMP:20260422T061509
CREATED:20211105T105204Z
LAST-MODIFIED:20220706T182219Z
UID:3565-1659139200-1659311999@waward.org
SUMMARY:華沃商學院-獲利革命
DESCRIPTION:課程簡介：\n獲利革命 是什麼？為什麼世界前三大首富可以強勢崛起，且獲得持續性的成功？打造差異化、創造盈利點、建立系統，最重要的就是：商業模式！一般老闆只想讓公司趕緊賺錢；卓越的老闆著重在建立系統，讓公司長久獲利，成為「有價值的公司」！2大獲利名師，整整2天，直接提供一套企業盈利突破解決方案！\n  \n上課時間：\n2022/07/30(六) 09:00 – 20:30\n2022/07/31(日) 09:00 – 18:00\n共2天課程\n請提早30分鐘抵達，準備上課！\n  \n上課時間：\n課程原價：$ 9800\n疫情優惠價：$ 1980\n\n  \n欲了解更多課程詳情及購票資訊，請點此購課連結：\nhttps://waward.org/business-profit-revolution/
URL:https://waward.org/event/%e8%8f%af%e6%b2%83%e5%95%86%e5%ad%b8%e9%99%a2-%e7%8d%b2%e5%88%a9%e9%9d%a9%e5%91%bd/
LOCATION:新北市新店區北新路三段223號2樓\, 2F.\, No. 223\, Sec. 3\, Beixin Rd.\, Xindian Dist.\, New Taipei City\, 台灣
ORGANIZER;CN="%E8%8F%AF%E6%B2%83%E5%95%86%E5%AD%B8%E9%99%A2":MAILTO:info@waward.org
END:VEVENT
END:VCALENDAR